BEGIN:VCALENDAR
VERSION:2.0
PRODID:-//ARK Christian Fellowship - ECPv6.0.13.1//NONSGML v1.0//EN
CALSCALE:GREGORIAN
METHOD:PUBLISH
X-WR-CALNAME:ARK Christian Fellowship
X-ORIGINAL-URL:https://arkcf.org.uk
X-WR-CALDESC:Events for ARK Christian Fellowship
REFRESH-INTERVAL;VALUE=DURATION:PT1H
X-Robots-Tag:noindex
X-PUBLISHED-TTL:PT1H
BEGIN:VTIMEZONE
TZID:Europe/London
BEGIN:DAYLIGHT
TZOFFSETFROM:+0000
TZOFFSETTO:+0100
TZNAME:BST
DTSTART:20190331T010000
END:DAYLIGHT
BEGIN:STANDARD
TZOFFSETFROM:+0100
TZOFFSETTO:+0000
TZNAME:GMT
DTSTART:20191027T010000
END:STANDARD
END:VTIMEZONE
BEGIN:VEVENT
DTSTART;VALUE=DATE:20190823
DTEND;VALUE=DATE:20190827
DTSTAMP:20260424T143004
CREATED:20181115T192206Z
LAST-MODIFIED:20181115T192206Z
UID:242-1566518400-1566863999@arkcf.org.uk
SUMMARY:Fellowship Weekend Away - Kings Park 2019
DESCRIPTION:
URL:https://arkcf.org.uk/event/fellowship-weekend-away-kings-park-2019/
LOCATION:NN3 6LL\, King's Park Conference & Sports Centre\, nn3 6ll\, United Kingdom
CATEGORIES:All Events
ATTACH;FMTTYPE=image/jpeg:https://arkcf.org.uk/wp-content/uploads/2018/11/61_nJPWiX6E_md.jpg
END:VEVENT
END:VCALENDAR